BEGIN:VCALENDAR
VERSION:2.0
PRODID:-//SONED e.V. - ECPv6.15.20//NONSGML v1.0//EN
CALSCALE:GREGORIAN
METHOD:PUBLISH
X-ORIGINAL-URL:https://soned.de
X-WR-CALDESC:Veranstaltungen für SONED e.V.
REFRESH-INTERVAL;VALUE=DURATION:PT1H
X-Robots-Tag:noindex
X-PUBLISHED-TTL:PT1H
BEGIN:VTIMEZONE
TZID:Europe/Berlin
BEGIN:DAYLIGHT
TZOFFSETFROM:+0100
TZOFFSETTO:+0200
TZNAME:CEST
DTSTART:20220327T010000
END:DAYLIGHT
BEGIN:STANDARD
TZOFFSETFROM:+0200
TZOFFSETTO:+0100
TZNAME:CET
DTSTART:20221030T010000
END:STANDARD
BEGIN:DAYLIGHT
TZOFFSETFROM:+0100
TZOFFSETTO:+0200
TZNAME:CEST
DTSTART:20230326T010000
END:DAYLIGHT
BEGIN:STANDARD
TZOFFSETFROM:+0200
TZOFFSETTO:+0100
TZNAME:CET
DTSTART:20231029T010000
END:STANDARD
BEGIN:DAYLIGHT
TZOFFSETFROM:+0100
TZOFFSETTO:+0200
TZNAME:CEST
DTSTART:20240331T010000
END:DAYLIGHT
BEGIN:STANDARD
TZOFFSETFROM:+0200
TZOFFSETTO:+0100
TZNAME:CET
DTSTART:20241027T010000
END:STANDARD
END:VTIMEZONE
BEGIN:VEVENT
DTSTART;TZID=Europe/Berlin:20230629T150000
DTEND;TZID=Europe/Berlin:20230702T160000
DTSTAMP:20260424T013453
CREATED:20230502T052249Z
LAST-MODIFIED:20230502T052249Z
UID:4709-1688050800-1688313600@soned.de
SUMMARY:72H - PERMAKULTUR DESIGN KURS IN 3 MODULEN: Modul III
DESCRIPTION:NACHHALTIGKEIT VOM GLOBALEN SÜDEN LERNEN: Globale Zusammenhänge erkennen – Klima und Konsum wandeln\nSONED e.V. und Hungry Cities in Kooperation mit der Permakultur Akademie \n\nDer erste und dritte Teil des Permakultur Design Kurses wird in Deutsch stattfinden. \nDer zweite Teil des Kurses wird in englischer Sprache präsentiert. \n\n \n  \n  \n  \n  \n  \n  \n15.06. – 18.06. (Modul I) (Deutsch) \n\n22.06. – 25.06. (Modul II) (English) \n29.06. – 02.07. (Modul III) (Deutsch) \n\nAnmeldung: info@soned.de \nTelefon: +49 (0) 30 2945401 \n  \nDer Permakultur Design Kurs (72 Std) ist in drei verlängerte Wochenenden aufgeteilt und findet jeweils zu folgenden Zeiten statt: Donnerstag 15:00 Uhr – 21:00 Uhr\, Freitag und Samstag 09:00 Uhr – 18:00 Uhr\, Sonntag 10:00 Uhr – 16:00 Uhr. \nUnsere Dozentin Sonita Mbah aus Kamerun wird uns Ihre spannende Projektarbeit aus Ihrem Heimatland\, außerdem aus Sambia und Gambia vorstellen und tiefer in Themen der sozialen und ökonomischen Permakultur eintauchen. Permakultur DesignerIn Sandra Passaro von Hungry Cities wird diesen PDK hosten und gemeinsam mit Jorge Barbosa die Permakultur Ethik\, Prinzipien und Methoden\, sowie Designaufgaben mit Euch behandeln. Joel Campe (Sieben Linden) wird mit uns über Privilegien und Macht sprechen und Jens Hauck wird das Sarasale e.V. Waldgartenprojekt im Senegal vorstellen. \nWenn Ihr nicht genügend verdient beträgt die Basisgebühr 890\,00 € für alle drei Module.\n(Frühbucher: 850\,00 €\, bis zum 30.03.2023)\nNormal Preis 990\,00\nSolidaritäts Preis 1250\,00 \nWenn Ihr gut- oder besserverdienend seid ermöglicht Ihr durch Euren Soli Beitrag oder den Supporter Beitrag\, dass die Überschüsse an unsere Partner Projekte Permakultur Kinderheim von Pamoja e.V. in Kenia und das Permakultur Institut in Ghana fließen. Bitte wendet Euch an uns\, wenn finanzielle Gründe Euch von einer Teilnahme abhalten. Wir versuchen\, eine Lösung zu finden. \n\n\n\n\nIn gemeinschaftlicher Atmosphäre sollen die Grundlagen der Permakultur Gestaltung vermittelt\, erarbeitet und erprobt werden. Dabei wechseln sich Theorie\, Gestaltungsübungen und Praxis ab. Während des Kurses werden folgende und weitere Themen schwerpunktmäßig behandelt: \n\n\n•    Ethische Grundlagen der Permakultur\n•    Permakultur Prinzipien und Methoden\, Themenbereiche der Permakultur\n•    Grundlagen zu Klima\, Bäumen\, Böden und Wasserkreisläufen\n•    Ökosystemkriterien und Komplexität\n•    Beobachtung und Wahrnehmung\n•    Natürliche Muster und Strukturen\n•    Selbstversorgung und gärtnerische Praxis\n•    Waldgärten und Pflanzengemeinschaften\n•    Ökologisches Bauen\n•    4 Dimensionen der Nachhaltigkeit\n•    Soziale Permakultur\n•    Soziokratie und Dragon Dreaming\n•    Urbane Permakultur und Transition Town Movement\n•    Ökonomie und Gemeinschaft\n•    Resilienz – I\, we\, world\n•    Designübungen\, Darstellung und Präsentation \nMaximal 20 TeilnehmerInnen sind möglich. \nWir bitten darum\, dass alle TeilnehmerInnen symptomfrei und mit einem negativen Testergebnis zum ersten Termin erscheinen. \nMehr Infos zu unseren Partner Projekten\, die Ihr mit Eurem Beitrag unterstützt\, findet Ihr unter: \nhttps://www.pamoja-africa.org/\nhttps://soned.de/category/ghana/ \n  \n \n\n  \n\n\n\n\n\n\n\n\n\n\n 
URL:https://soned.de/event/72h-permakultur-design-kurs-in-3-modulen-modul-iii/
ATTACH;FMTTYPE=image/jpeg:https://soned.de/wp-content/uploads/2023/04/image.jpg
END:VEVENT
END:VCALENDAR