BEGIN:VCALENDAR
VERSION:2.0
PRODID:-//SONED e.V. - ECPv6.15.20//NONSGML v1.0//EN
CALSCALE:GREGORIAN
METHOD:PUBLISH
X-ORIGINAL-URL:https://soned.de
X-WR-CALDESC:Veranstaltungen für SONED e.V.
REFRESH-INTERVAL;VALUE=DURATION:PT1H
X-Robots-Tag:noindex
X-PUBLISHED-TTL:PT1H
BEGIN:VTIMEZONE
TZID:Europe/Berlin
BEGIN:DAYLIGHT
TZOFFSETFROM:+0100
TZOFFSETTO:+0200
TZNAME:CEST
DTSTART:20210328T010000
END:DAYLIGHT
BEGIN:STANDARD
TZOFFSETFROM:+0200
TZOFFSETTO:+0100
TZNAME:CET
DTSTART:20211031T010000
END:STANDARD
BEGIN:DAYLIGHT
TZOFFSETFROM:+0100
TZOFFSETTO:+0200
TZNAME:CEST
DTSTART:20220327T010000
END:DAYLIGHT
BEGIN:STANDARD
TZOFFSETFROM:+0200
TZOFFSETTO:+0100
TZNAME:CET
DTSTART:20221030T010000
END:STANDARD
BEGIN:DAYLIGHT
TZOFFSETFROM:+0100
TZOFFSETTO:+0200
TZNAME:CEST
DTSTART:20230326T010000
END:DAYLIGHT
BEGIN:STANDARD
TZOFFSETFROM:+0200
TZOFFSETTO:+0100
TZNAME:CET
DTSTART:20231029T010000
END:STANDARD
END:VTIMEZONE
BEGIN:VEVENT
DTSTART;TZID=Europe/Berlin:20220613T210000
DTEND;TZID=Europe/Berlin:20220613T220000
DTSTAMP:20260423T141418
CREATED:20220426T103059Z
LAST-MODIFIED:20230102T235837Z
UID:4521-1655154000-1655157600@soned.de
SUMMARY:Widerstandsfähige Infrastruktur in Kamerun?
DESCRIPTION:Alex Gninpolie besuchte nach 9 Jahren seine Heimat in Kamerun. Er hat dort erkundet\, wie die Lebenssituation sich dort entwickelt hat seit er wegging. Er wird eine Einschätzung geben\, welche Perspektiven für nachhaltige Entwicklung er sieht. Er teilt mit uns seine Erlebnisse und diskutiert mit dem Publikum mögliche Projektideen.
URL:https://soned.de/event/widerstandsfaehige-infrastruktur-in-kamerun/
LOCATION:Medienräume K18\, Kreutzigerstraße 18\, Berlin\, 10247
END:VEVENT
BEGIN:VEVENT
DTSTART;TZID=Europe/Berlin:20220620T210000
DTEND;TZID=Europe/Berlin:20220620T220000
DTSTAMP:20260423T141418
CREATED:20220426T103536Z
LAST-MODIFIED:20220426T103536Z
UID:4523-1655758800-1655762400@soned.de
SUMMARY:Neustart nach Kriegsbeginn und Vertreibung aus Bamenda.
DESCRIPTION:Das Nadifor Ecovillage in Bamenda/ Kamerun war ein über Grenzen hinaus beispielhaftes Ökodorfprojekt\, von der Dorfgemeinschaft unter Anleitung von better world cameroon erbaut\, wurde es immer mehr von den seit 2016 wachsenden gewaltsamen Konflikten in der Region betroffen. 2019 wurde das Dorf evakuiert und 2021 vom Militär zerstört. Sonita Mbah berichtet über die neuen Aktivitäten von Better World Cameroon.
URL:https://soned.de/event/neustart-nach-kriegsbeginn-und-vertreibung-aus-bamenda/
ATTACH;FMTTYPE=image/png:https://soned.de/wp-content/uploads/2020/04/BWC_logo.png
END:VEVENT
BEGIN:VEVENT
DTSTART;TZID=Europe/Berlin:20220627T210000
DTEND;TZID=Europe/Berlin:20220627T220000
DTSTAMP:20260423T141418
CREATED:20220620T125405Z
LAST-MODIFIED:20220620T125405Z
UID:4542-1656363600-1656367200@soned.de
SUMMARY:Bioshären in Honduras - Impressionen aus dem Arbeitsalltag
DESCRIPTION:
URL:https://soned.de/event/bioshaeren-in-honduras-impressionen-aus-dem-arbeitsalltag/
LOCATION:Medienräume K18\, Kreutzigerstraße 18\, Berlin\, 10247
END:VEVENT
END:VCALENDAR