BEGIN:VCALENDAR
VERSION:2.0
PRODID:-//SONED e.V. - ECPv6.15.20//NONSGML v1.0//EN
CALSCALE:GREGORIAN
METHOD:PUBLISH
X-WR-CALNAME:SONED e.V.
X-ORIGINAL-URL:https://soned.de
X-WR-CALDESC:Veranstaltungen für SONED e.V.
REFRESH-INTERVAL;VALUE=DURATION:PT1H
X-Robots-Tag:noindex
X-PUBLISHED-TTL:PT1H
BEGIN:VTIMEZONE
TZID:Europe/Berlin
BEGIN:DAYLIGHT
TZOFFSETFROM:+0100
TZOFFSETTO:+0200
TZNAME:CEST
DTSTART:20220327T010000
END:DAYLIGHT
BEGIN:STANDARD
TZOFFSETFROM:+0200
TZOFFSETTO:+0100
TZNAME:CET
DTSTART:20221030T010000
END:STANDARD
BEGIN:DAYLIGHT
TZOFFSETFROM:+0100
TZOFFSETTO:+0200
TZNAME:CEST
DTSTART:20230326T010000
END:DAYLIGHT
BEGIN:STANDARD
TZOFFSETFROM:+0200
TZOFFSETTO:+0100
TZNAME:CET
DTSTART:20231029T010000
END:STANDARD
BEGIN:DAYLIGHT
TZOFFSETFROM:+0100
TZOFFSETTO:+0200
TZNAME:CEST
DTSTART:20240331T010000
END:DAYLIGHT
BEGIN:STANDARD
TZOFFSETFROM:+0200
TZOFFSETTO:+0100
TZNAME:CET
DTSTART:20241027T010000
END:STANDARD
END:VTIMEZONE
BEGIN:VEVENT
DTSTART;TZID=Europe/Berlin:20231023T193000
DTEND;TZID=Europe/Berlin:20231023T220000
DTSTAMP:20260423T125548
CREATED:20230928T115554Z
LAST-MODIFIED:20230928T115554Z
UID:4764-1698089400-1698098400@soned.de
SUMMARY:„Waldgarten im Senegal und in Rehberge/Brandenburg " von Sarsarale e.V."
DESCRIPTION:Diavortrag
URL:https://soned.de/event/waldgarten-im-senegal-und-in-rehberge-brandenburg-von-sarsarale-e-v/
LOCATION:Kreutzigerstraße 19 Nachbarschaftstreff\, Kreutzigerstraße 19\, Berlin\, 10247\, Deutschland
ATTACH;FMTTYPE=image/jpeg:https://soned.de/wp-content/uploads/2023/09/Kuefa-2023.jpg
END:VEVENT
END:VCALENDAR