BEGIN:VCALENDAR
VERSION:2.0
PRODID:-//SONED e.V. - ECPv6.15.20//NONSGML v1.0//EN
CALSCALE:GREGORIAN
METHOD:PUBLISH
X-WR-CALNAME:SONED e.V.
X-ORIGINAL-URL:https://soned.de
X-WR-CALDESC:Veranstaltungen für SONED e.V.
REFRESH-INTERVAL;VALUE=DURATION:PT1H
X-Robots-Tag:noindex
X-PUBLISHED-TTL:PT1H
BEGIN:VTIMEZONE
TZID:Europe/Berlin
BEGIN:DAYLIGHT
TZOFFSETFROM:+0100
TZOFFSETTO:+0200
TZNAME:CEST
DTSTART:20210328T010000
END:DAYLIGHT
BEGIN:STANDARD
TZOFFSETFROM:+0200
TZOFFSETTO:+0100
TZNAME:CET
DTSTART:20211031T010000
END:STANDARD
BEGIN:DAYLIGHT
TZOFFSETFROM:+0100
TZOFFSETTO:+0200
TZNAME:CEST
DTSTART:20220327T010000
END:DAYLIGHT
BEGIN:STANDARD
TZOFFSETFROM:+0200
TZOFFSETTO:+0100
TZNAME:CET
DTSTART:20221030T010000
END:STANDARD
BEGIN:DAYLIGHT
TZOFFSETFROM:+0100
TZOFFSETTO:+0200
TZNAME:CEST
DTSTART:20230326T010000
END:DAYLIGHT
BEGIN:STANDARD
TZOFFSETFROM:+0200
TZOFFSETTO:+0100
TZNAME:CET
DTSTART:20231029T010000
END:STANDARD
END:VTIMEZONE
BEGIN:VEVENT
DTSTART;TZID=Europe/Berlin:20221017T210000
DTEND;TZID=Europe/Berlin:20221017T220000
DTSTAMP:20260423T190237
CREATED:20220426T111117Z
LAST-MODIFIED:20230103T022011Z
UID:4531-1666040400-1666044000@soned.de
SUMMARY:Das gewaltsame Verschwinden Lassen als Repressionsart in Kolumbien.
DESCRIPTION:Philip Munyasia berichtet von dieser Praxis aus der Perspektive von Betroffenen\, von Einzelschicksalen und den Auswirkungen auf ihre Familien. Aber auch die Auswirkungen auf die Gesellschaft\, die Einschüchterung von Aktivismus und Widerstand gegen soziale und ökologische Missstände werden thematisiert.
URL:https://soned.de/event/das-gewaltsame-verschwinden-lassen-als-repressionsart-in-kolumbien/
LOCATION:Medienräume K18\, Kreutzigerstraße 18\, Berlin\, 10247
END:VEVENT
END:VCALENDAR