BEGIN:VCALENDAR
VERSION:2.0
PRODID:-//SONED e.V. - ECPv6.15.20//NONSGML v1.0//EN
CALSCALE:GREGORIAN
METHOD:PUBLISH
X-WR-CALNAME:SONED e.V.
X-ORIGINAL-URL:https://soned.de
X-WR-CALDESC:Veranstaltungen für SONED e.V.
REFRESH-INTERVAL;VALUE=DURATION:PT1H
X-Robots-Tag:noindex
X-PUBLISHED-TTL:PT1H
BEGIN:VTIMEZONE
TZID:Europe/Berlin
BEGIN:DAYLIGHT
TZOFFSETFROM:+0100
TZOFFSETTO:+0200
TZNAME:CEST
DTSTART:20200329T010000
END:DAYLIGHT
BEGIN:STANDARD
TZOFFSETFROM:+0200
TZOFFSETTO:+0100
TZNAME:CET
DTSTART:20201025T010000
END:STANDARD
BEGIN:DAYLIGHT
TZOFFSETFROM:+0100
TZOFFSETTO:+0200
TZNAME:CEST
DTSTART:20210328T010000
END:DAYLIGHT
BEGIN:STANDARD
TZOFFSETFROM:+0200
TZOFFSETTO:+0100
TZNAME:CET
DTSTART:20211031T010000
END:STANDARD
BEGIN:DAYLIGHT
TZOFFSETFROM:+0100
TZOFFSETTO:+0200
TZNAME:CEST
DTSTART:20220327T010000
END:DAYLIGHT
BEGIN:STANDARD
TZOFFSETFROM:+0200
TZOFFSETTO:+0100
TZNAME:CET
DTSTART:20221030T010000
END:STANDARD
END:VTIMEZONE
BEGIN:VEVENT
DTSTART;TZID=Europe/Berlin:20211009T080000
DTEND;TZID=Europe/Berlin:20211009T170000
DTSTAMP:20260423T125558
CREATED:20210712T204155Z
LAST-MODIFIED:20211005T143210Z
UID:4051-1633766400-1633798800@soned.de
SUMMARY:Wanderung im Elbsandsteingebirge
DESCRIPTION:Sa\, 09.10.2021 | ganztägig\nWorkshop zu späten KZ\, Zwangsarbeit\, Todesmärsche und Widerstand in der NS-Zeit mit Educat Sachsen e.V.\nTeilnehmerbetrag: angemessener Eigenanteil\nTreffzeit: 9:00 Hauptbahnhof Gleis 3 Rückankunft 20:42 Berlin Hauptbahnhof Gleis 7.\n\nAnmeldung: simon@soned.de\nInfos unter: www.soned.de/workshops
URL:https://soned.de/event/wanderung-im-elbsandsteingebirge/
END:VEVENT
END:VCALENDAR