BEGIN:VCALENDAR
VERSION:2.0
PRODID:-//SONED e.V. - ECPv6.15.20//NONSGML v1.0//EN
CALSCALE:GREGORIAN
METHOD:PUBLISH
X-ORIGINAL-URL:https://soned.de
X-WR-CALDESC:Veranstaltungen für SONED e.V.
REFRESH-INTERVAL;VALUE=DURATION:PT1H
X-Robots-Tag:noindex
X-PUBLISHED-TTL:PT1H
BEGIN:VTIMEZONE
TZID:Europe/Berlin
BEGIN:DAYLIGHT
TZOFFSETFROM:+0100
TZOFFSETTO:+0200
TZNAME:CEST
DTSTART:20200329T010000
END:DAYLIGHT
BEGIN:STANDARD
TZOFFSETFROM:+0200
TZOFFSETTO:+0100
TZNAME:CET
DTSTART:20201025T010000
END:STANDARD
BEGIN:DAYLIGHT
TZOFFSETFROM:+0100
TZOFFSETTO:+0200
TZNAME:CEST
DTSTART:20210328T010000
END:DAYLIGHT
BEGIN:STANDARD
TZOFFSETFROM:+0200
TZOFFSETTO:+0100
TZNAME:CET
DTSTART:20211031T010000
END:STANDARD
BEGIN:DAYLIGHT
TZOFFSETFROM:+0100
TZOFFSETTO:+0200
TZNAME:CEST
DTSTART:20220327T010000
END:DAYLIGHT
BEGIN:STANDARD
TZOFFSETFROM:+0200
TZOFFSETTO:+0100
TZNAME:CET
DTSTART:20221030T010000
END:STANDARD
END:VTIMEZONE
BEGIN:VEVENT
DTSTART;TZID=Europe/Berlin:20210827T160000
DTEND;TZID=Europe/Berlin:20210827T173000
DTSTAMP:20260423T170304
CREATED:20210712T203414Z
LAST-MODIFIED:20210712T203414Z
UID:4036-1630080000-1630085400@soned.de
SUMMARY:Suffizienz durch Permakultur
DESCRIPTION:Fr\, 27.08.2021 | 16:00 – 17:30 Uhr\nGemeinschaftsgarten Frieda Süd\nAnnabella Jakab\, SONED e.V.\nAnmeldeschluss: 26.08.2021 | 14:00 Uhr \nPermakultur setzt sich aus einer ökologischen\, sozialen und ökonomischen Ethik zusammen. Diese sind nicht getrennt voneinander zu betrachten\, vielmehr erschaffen sie im Gleichklang ein stabiles Gerüst. Die Grundethik der Permakultur zeichnet damit die Säulen der Nachhaltigkeit nach und verbindet sich mit den Nachhaltigkeitsstrategien Suffi zienz\, Effi zienz und Konsistenz. Genau in diesem Dreiklang offenbart sich das Potential zur gesellschaftlichen und politischen Wende. Der Workshop denkt Permakultur und Suffi zienz zusammen und zeigt uns konkrete Handlungsmöglichkeiten im alltäglichen Leben in der Stadt auf. \nAnnabella Jakab hat ökologisches Agrarmanagement studiert und als Projektmanagerin unter anderem #change my climate ins Leben gerufen\, um Menschen das Einfl echten nachhaltiger\, vom Permakulturgedanken inspirierter Praktiken in ihren Alltag zu erleichtern. \nAnmeldung: simon@soned.de\nInfos unter: www.soned.de/Workshops
URL:https://soned.de/event/suffizienz-durch-permakultur/
END:VEVENT
END:VCALENDAR