BEGIN:VCALENDAR
VERSION:2.0
PRODID:-//SONED e.V. - ECPv6.15.20//NONSGML v1.0//EN
CALSCALE:GREGORIAN
METHOD:PUBLISH
X-ORIGINAL-URL:https://soned.de
X-WR-CALDESC:Veranstaltungen für SONED e.V.
REFRESH-INTERVAL;VALUE=DURATION:PT1H
X-Robots-Tag:noindex
X-PUBLISHED-TTL:PT1H
BEGIN:VTIMEZONE
TZID:Europe/Berlin
BEGIN:DAYLIGHT
TZOFFSETFROM:+0100
TZOFFSETTO:+0200
TZNAME:CEST
DTSTART:20200329T010000
END:DAYLIGHT
BEGIN:STANDARD
TZOFFSETFROM:+0200
TZOFFSETTO:+0100
TZNAME:CET
DTSTART:20201025T010000
END:STANDARD
BEGIN:DAYLIGHT
TZOFFSETFROM:+0100
TZOFFSETTO:+0200
TZNAME:CEST
DTSTART:20210328T010000
END:DAYLIGHT
BEGIN:STANDARD
TZOFFSETFROM:+0200
TZOFFSETTO:+0100
TZNAME:CET
DTSTART:20211031T010000
END:STANDARD
BEGIN:DAYLIGHT
TZOFFSETFROM:+0100
TZOFFSETTO:+0200
TZNAME:CEST
DTSTART:20220327T010000
END:DAYLIGHT
BEGIN:STANDARD
TZOFFSETFROM:+0200
TZOFFSETTO:+0100
TZNAME:CET
DTSTART:20221030T010000
END:STANDARD
END:VTIMEZONE
BEGIN:VEVENT
DTSTART;TZID=Europe/Berlin:20210715T080000
DTEND;TZID=Europe/Berlin:20210718T170000
DTSTAMP:20260420T115047
CREATED:20210705T131423Z
LAST-MODIFIED:20210705T132416Z
UID:3983-1626336000-1626627600@soned.de
SUMMARY:PERMAKULTUR-DESIGN-KURS IM SOMMER 2021 Teil II
DESCRIPTION:Präsentiert von SONED e.V. in Kooperation mit Peace of Land e.V. und der Permakultur Akademie. \nNachhaltigkeit vom globalen Süden lernen.\nGlobale Zusammenhänge erkennen– Klima & Konsum wandeln! \nTermine\n01.07. − 04.07.2021 (Teil I)\n15.07. − 18.07.2021 (Teil II)\n29.07. − 01.08.2021 (Teil III) \nAnmeldeschluss: 21. 06.2021\nAnmeldung an: franziska@soned.de\nKontakt Büro: +49 (0) 30 2945401 \nIn diesem PDK wollen wir Fluchtursachen wie Klimawandel und globale Wirtschaftssysteme beleuchten und die nötigen Veränderungen aufzeigen. Anhand konkreter Projektbeispiele aus den sogenannten Entwicklungsländern\, zeigen wir auf\, wie durch Anwendung permakultureller Prinzipien diverse Modell Projekte entstehen\, die Lösungen aufzeigen entsprechend der SDGs (Sustainable Development Goals – von der Weltstaatengemeinschaft\nim September 2015 vereinbart). \nWir wollen mit euch auf globale Fragen kleinteilige Antworten finden\, die wir in unseren Alltag integrieren\nkönnen. In urbanen Permakultur-Projekten werden die Prinzipien der Permakultur lebendig und wir können\nbei der Gestaltung konkret mitwirken und praktisch lernen! \nDer Kurs ist in drei verlängerten Wochenenden (jeweils Donnerstag\, 15:00 Uhr – Sonntag 16:00 Uhr) aufgeteilt und soll in gemeinschaftlicher Atmosphäre die Grundlagen der Permakultur vermitteln\, erarbeiten und erproben. Dabei wechseln sich Theorie\, Gestaltungsübungen und Praxis ab. Die Veranstaltungsorte liegen in Prenzlauer Berg\, Friedrichshain-Kreuzberg sowie bei Werder/Havel. \nWährend des Kurses werden folgende Themen schwerpunktmäßig behandelt: \nTeil I: Earth care – People care – Fair share\n• Ethische Grundlagen der Permakultur\n• Permakultur Prinzipien und -Methoden\,PK Blume\n• Basics zu Boden und Wasserkreislauf\n• Design Prozess\, Methoden und Darstellung\n• Umsetzung eines Mini- „Designauftrages“ \nTeil II: Nachhaltigkeit weiter gedacht\n• Ökosysteme und Komplexität\n• Soziale Permakultur\n• Beobachtung und Wahrnehmung\n• Böden\, Bäume\, Wasser\, Klima\n• Natürliche Muster\n• Selbstversorgung \nTeil III: Wir gestalten uns die Welt wie sie uns gefällt\n• Designübungen\, Darstellung und Präsentation\n• Architektur\, Geländemodellierung\n• Ökonomie und Gemeinschaft\n• Urbane Permakultur und Transition\nTown Movement\, \nDozentInnen:\nJoel Campe\, Sandra Verena Passaro\, Sonita Mbah\,\nRobert Strauch\, Jan “Kipper” Fischer \nVeranstaltungsorte:\nPeace of Land e.V.\, Kreutzigerstr. 23 – Selbstverwaltete Ostberliner GenossInnenschaft (S.O.G.) e.G.\, Dicke Eiche X \nKursgebühr & Unterkunft\nDie Kursgebühr beträgt 850\,00 € für alle drei Teile. (Frühbucher: 800\,00 €\, bis zum 07.05.2021) \nFür Verpflegung bitten wir um einen Beitrag von 60\,00 €. \nMaximal 12 TeilnehmerInnen sind möglich. \nAnreise und Unterbringung werden von den Teilnehmenden selbst organisiert.\nIn Werder ist ein Campingplatz zum Zelten. Gerne helfen wir Euch bei der Organisation. \nBitte wendet Euch an uns\, wenn finanzielle Gründe Euch von einer Teilnahme abhalten.\nWir versuchen\, eine Lösung zu finden.
URL:https://soned.de/event/permakultur-design-kurs-im-sommer-2021-2/
END:VEVENT
END:VCALENDAR